BEGIN:VCALENDAR
VERSION:2.0
PRODID:-//ChamberMaster//Event Calendar 2.0//EN
METHOD:PUBLISH
X-PUBLISHED-TTL:P3D
REFRESH-INTERVAL:P3D
CALSCALE:GREGORIAN
BEGIN:VEVENT
DTSTART:20250911T140000Z
DTEND:20250911T180000Z
X-MICROSOFT-CDO-ALLDAYEVENT:FALSE
SUMMARY:Business Expo
DESCRIPTION:Your favorite fall event is back for its 22nd year!\n\n\n\nJoin us at Business Expo 2025 as we continue to celebrate the energy\, innovation\, and entrepreneurial spirit of Greater Dalton.\n\n\n\nThis year's event is bigger and brighter than ever before\, with exciting new opportunities for businesses and attendees alike. For the first time ever\, vendors will be allowed to sell products directly from their booths and promote job openings for those looking to grow their teams. Plus\, the Greater Dalton Chamber Business Expo has held the title of being the largest business-to-business marketing event in Northwest Georgia.\n\n\n\n\n\nEVENT DETAILS:\n\nDate: September 11th\, 2025\n\nTime: 10:00 AM   2:00 PM\n\nLocation: Dalton Convention Center\, lower level\n\n\n\n\n\nWhat's New This Year:\n\n	Vendors can sell products at their booths\n	Businesses can advertise job openings from their booths\n	Maximize visibility with the Business Expo Passport system\n	Non-Members are welcome to exhibit at a special rate\n\n \n\nWho Should Attend Business Expo?\n\nThis event is open to the public\, and there is something for everyone!\n\n\n	Job Seekers   Explore local opportunities and grab exclusive products and deals\n	Shoppers   Support small businesses with your purchases\n	Students & Young Professionals   Familiarize yourself with the local industry\n	Community Members   Learn more about businesses shaping Greater Dalton\n	Networkers & Connectors   Meet new business connections and potential clients\n\n \n\nWho Should Exhibit at Business Expo?\n\nIf your business wants visibility\, customers\, or talent\, you belong here!\n\n\n	Retailers & Entrepreneurs   Sell your products directly from your booth\n	Hiring Businesses   Meet potential employees face-to-face\n	Service Providers   Educate the public on what your business offers\n	New Businesses   Introduce yourself to the community\n	Chamber Members & Non-Members   Booths are open to all! (Non-member rates available)\n\n\n\nLooking to be an exhibitor at Business Expo?\n\nHere's what you need to know!\n\n\n	Booth sales are LIVE NOW! Regular booth prices start at $330.00 and include power. There are a limited number of premium booths remaining. Full price menu is available in the Fee Description on the right-hand side of this webpage.\n	Yes\, you can sell your products from your booth this year!  (Food sales and weapons are not permitted.)\n	Food vendor? You qualify for a FREE booth by offering samples. Call the Chamber to learn more!\n	If you're hiring at your company\, you can use Business Expo as your very own career fair. We'll mark your booth with a special balloon and send potential employees your way.\n	Want to maximize visibility at the Expo? Take part in our exclusive passport program! A select number of booths are marked as stops along the passport trail for participants to collect stamps to enter for the cash grand prize.\n	We will offer a Business Expo 101 on August 5th for those who want the inside scoop and booth best practices.\n\n \n\nHave questions? Contact the Chamber team today! We're here to help!\n\nSee how we connect you on September 11th. Will you be there?
X-ALT-DESC;FMTTYPE=text/html:<span style="font-size:18px\;"><span style="font-size:20px\;"><span style="color:#0D566C\;"><strong>Your favorite fall event is back for its 22nd year!</strong></span><br />\n<br />\nJoin us at Business Expo 2025 as we continue to celebrate the energy\, innovation\, and entrepreneurial spirit of Greater Dalton.<br />\n<br />\nThis year&#39\;s event is bigger and brighter than ever before\, with exciting new opportunities for businesses and attendees alike. For the first time ever\, vendors will be allowed to sell products directly from their booths and promote job openings for those looking to grow their teams. Plus\, the Greater Dalton Chamber Business Expo has held the title of being the largest business-to-business marketing event in Northwest Georgia.<br />\n<br />\n<br />\n<u><span style="color:#0D566C\;"><strong>EVENT DETAILS:</strong></span></u><br />\n<strong>Date:&nbsp\;</strong>September 11th\, 2025<br />\n<strong>Time:&nbsp\;</strong>10:00 AM &ndash\; 2:00 PM<br />\n<strong>Location:&nbsp\;</strong>Dalton Convention Center\, lower level</span><br />\n<br />\n<br />\n<span style="color:#0D566C\;"><strong>What&rsquo\;s New This Year:</strong></span></span>\n<ul>\n	<li><span style="font-size:18px\;">Vendors can sell products at their booths</span></li>\n	<li><span style="font-size:18px\;">Businesses can advertise job openings from their booths</span></li>\n	<li><span style="font-size:18px\;">Maximize visibility with the Business Expo Passport system</span></li>\n	<li><span style="font-size:18px\;">Non-Members are welcome to exhibit at a special rate</span></li>\n</ul>\n<span style="font-size:18px\;">&nbsp\;<br />\n<span style="color:#0D566C\;"><strong>Who Should <u>Attend</u> Business Expo?</strong></span><br />\n<em>This event is open to the public\, and there is something for everyone!</em></span>\n\n<ul>\n	<li><span style="font-size:18px\;"><strong>Job Seekers</strong> &ndash\; Explore local opportunities and grab exclusive products and deals</span></li>\n	<li><span style="font-size:18px\;"><strong>Shoppers</strong> &ndash\; Support small businesses with your purchases</span></li>\n	<li><span style="font-size:18px\;"><strong>Students &amp\; Young Professionals</strong> &ndash\; Familiarize yourself with the local industry</span></li>\n	<li><span style="font-size:18px\;"><strong>Community Members</strong> &ndash\; Learn more about businesses shaping Greater Dalton</span></li>\n	<li><span style="font-size:18px\;"><strong>Networkers &amp\; Connectors </strong>&ndash\; Meet new business connections and potential clients</span></li>\n</ul>\n<span style="font-size:18px\;">&nbsp\;<br />\n<span style="color:#0D566C\;"><strong>Who Should <u>Exhibit</u> at Business Expo?</strong></span><br />\n<em>If your business wants visibility\, customers\, or talent\, you belong here!</em></span>\n\n<ul>\n	<li><span style="font-size:18px\;"><strong>Retailers &amp\; Entrepreneurs</strong> &ndash\; Sell your products directly from your booth</span></li>\n	<li><span style="font-size:18px\;"><strong>Hiring Businesses</strong> &ndash\; Meet potential employees face-to-face</span></li>\n	<li><span style="font-size:18px\;"><strong>Service Providers</strong> &ndash\; Educate the public on what your business offers</span></li>\n	<li><span style="font-size:18px\;"><strong>New Businesses</strong> &ndash\; Introduce yourself to the community</span></li>\n	<li><span style="font-size:18px\;"><strong>Chamber Members &amp\; Non-Members</strong> &ndash\; Booths are open to all! (Non-member rates available)</span></li>\n</ul>\n<br />\n<strong><font color="#0d566c" size="4">Looking to be <span style="caret-color: rgb(13\, 86\, 108)\;">an</span>&nbsp\;exhibitor at Business Expo?</font></strong><br />\n<em style="font-size: 18px\;">Here&#39\;s what you need to know!</em>\n\n<ul>\n	<li><span style="font-size:18px\;"><strong>Booth sales are LIVE NOW!</strong>&nbsp\;Regular booth prices start at $330.00 and include power. There are a limited number of premium booths remaining. Full price menu is available in the&nbsp\;<em>Fee Description</em>&nbsp\;on the right-hand side of this webpage.</span></li>\n	<li><span style="font-size:18px\;"><strong>Yes\, you can sell your products</strong>&nbsp\;from your booth this year! &nbsp\;<em>(Food sales and weapons are not permitted.)</em></span></li>\n	<li><span style="font-size:18px\;"><strong>Food vendor?</strong>&nbsp\;You qualify for a&nbsp\;<strong>FREE booth</strong>&nbsp\;by offering samples. Call the Chamber to learn more!</span></li>\n	<li><span style="font-size:18px\;"><strong>If you&rsquo\;re hiring at your company</strong>\, you can use Business Expo as your very own career fair. We&rsquo\;ll mark your booth with a special balloon and send potential employees your way.</span></li>\n	<li><span style="font-size:18px\;"><strong>Want to maximize visibility at the Expo?&nbsp\;</strong>Take part in our exclusive passport program! A select number of booths are marked as stops along the passport trail for participants to collect stamps to enter for the cash grand prize.</span></li>\n	<li><span style="font-size:18px\;">We will&nbsp\;offer a&nbsp\;<strong>Business Expo 101</strong>&nbsp\;on August 5th for those who want the inside scoop and booth best practices.</span></li>\n</ul>\n<span style="font-size:18px\;">&nbsp\;<br />\nHave questions? Contact the Chamber team today! We&rsquo\;re here to help!<br />\nSee how we connect&nbsp\;<em>you</em>&nbsp\;on September 11th. Will you be there?</span>
LOCATION:Dalton Convention Center 2211 Tony Ingle Parkway
UID:e.763.3273
SEQUENCE:3
DTSTAMP:20260426T011355Z
URL:http://daltonchamber-dev.chambermaster.com/events/details/business-expo-3273
END:VEVENT

END:VCALENDAR
