BEGIN:VCALENDAR
VERSION:2.0
PRODID:-//ChamberMaster//Event Calendar 2.0//EN
METHOD:PUBLISH
X-PUBLISHED-TTL:P3D
REFRESH-INTERVAL:P3D
CALSCALE:GREGORIAN
BEGIN:VEVENT
DTSTART;VALUE=DATE:20110312
DTEND;VALUE=DATE:20110314
TRANSP:TRANSPARENT
X-MICROSOFT-CDO-ALLDAYEVENT:TRUE
SUMMARY:Community Emergency Response Team Training
DESCRIPTION:Community Emergency Response Team (C.E.R.T.) is a FREE risk and hazard awareness training available to you through Whitfield County Emergency Management Agency. This valuable course is designed to help you protect yourself\, your family and your immediate community in the event of a major situation in your neighborhood.\n\nC.E.R.T. is a positive and realistic approach to emergency and disaster situations where citizens may initially be on their own and their actions can and do make a difference. While people will respond to others in need without the training\, one goal of the C.E.R.T. program is to help them do so effectively and efficiently without placing themselves in unnecessary danger\, therefore minimizing ones the risk of bodily injury and simply becoming another victim.\n\nYou will receive training in the areas of: * Disaster Preparedness * Fire Safety * Medical Operations and Basic First Aid * Search & Rescue and much more...
X-ALT-DESC;FMTTYPE=text/html:Community Emergency Response Team (C.E.R.T.) is a FREE risk and hazard awareness training available to you through Whitfield County Emergency Management Agency. This valuable course is designed to help you protect yourself\, your family and your immediate community in the event of a major situation in your neighborhood.\n<br>C.E.R.T. is a positive and realistic approach to emergency and disaster situations where citizens may initially be on their own and their actions can and do make a difference. While people will respond to others in need without the training\, one goal of the C.E.R.T. program is to help them do so effectively and efficiently without placing themselves in unnecessary danger\, therefore minimizing ones the risk of bodily injury and simply becoming another victim.\n<br>You will receive training in the areas of: * Disaster Preparedness * Fire Safety * Medical Operations and Basic First Aid * Search &amp\; Rescue and much more...
LOCATION:Whitfield County 911 Center 804 Professional Blvd Dalton\, GA 30720
UID:e.763.518
SEQUENCE:3
DTSTAMP:20260424T075539Z
URL:http://daltonchamber-dev.chambermaster.com/events/details/community-emergency-response-team-training-03-12-2011-518
END:VEVENT

END:VCALENDAR
