BEGIN:VCALENDAR
VERSION:2.0
PRODID:-//ChamberMaster//Event Calendar 2.0//EN
METHOD:PUBLISH
X-PUBLISHED-TTL:P3D
REFRESH-INTERVAL:P3D
CALSCALE:GREGORIAN
BEGIN:VEVENT
DTSTART:20250313T123000Z
DTEND:20250313T133000Z
X-MICROSOFT-CDO-ALLDAYEVENT:FALSE
SUMMARY:Economic Outlook Breakfast
DESCRIPTION:How does Dalton's economy compare to similar cities? Is Georgia outpacing other states in economic growth? What economic trends are shaping 2025 and beyond? \n\n \n\nIf these are your burning questions\, the best place to get the answers is at our Economic Outlook Breakfast on March 13th\, presented by Builtwell Bank. Don't miss this data-driven analysis that business leaders\, policymakers\, and professionals at any stage of their careers will find beneficial! \n\n\n\nWhen it comes to understanding what's shaping our economy on a local\, state\, and national scale\, few voices are as insightful as Middle Georgia State University Professor\, Dr. George. As Associate Professor of Economics with a Ph.D. in Economics\, he has spent years studying and analyzing how local economies stack up against state and national benchmarks. Throughout his career\, he has dedicated much of his time to analyzing market trends\, labor dynamics\, and financial landscapes\, making him the perfect speaker for this year's Economic Outlook Breakfast.\n\n\n\nDon't get left behind - register today!
X-ALT-DESC;FMTTYPE=text/html:<span style="font-family: &quot\;times new roman&quot\;\;"><strong style="font-size: 18px\;">How does Dalton&#39\;s economy compare to similar cities? Is Georgia outpacing other states in economic growth? What economic trends are shaping 2025 and beyond?&nbsp\;</strong><br />\n<font size="4">&nbsp\;</font><br />\n<font size="4">If these are your burning questions\, the best place to get the answers is at our Economic Outlook Breakfast on March 13th\, presented by Builtwell Bank</font><font size="4">. Don&rsquo\;t miss this data-driven analysis that business leaders\, policymakers\, and professionals at any stage of their careers will find beneficial!&nbsp\;</font><br />\n<br />\n<font size="4">When it comes to understanding what&#39\;s shaping our economy on a local\, state\, and national scale\, few voices are as insightful as Middle Georgia State University Professor\, Dr. George. As Associate Professor of Economics with a Ph.D. in Economics\, he has spent years studying and analyzing how local economies stack up against state and national benchmarks. Throughout his career\, he has dedicated much of his time to analyzing market trends\, labor dynamics\, and financial landscapes\, making him the perfect speaker for this year&#39\;s Economic Outlook Breakfast.</font><br />\n<br />\n<font size="4">Don&rsquo\;t get left behind - register today!</font></span><br />\n<br />\n&nbsp\;
LOCATION:Dalton Convention Center 2211 Tony Ingle Parkway
UID:e.763.3282
SEQUENCE:3
DTSTAMP:20260423T000108Z
URL:http://daltonchamber-dev.chambermaster.com/events/details/economic-outlook-3282
END:VEVENT

END:VCALENDAR
