BEGIN:VCALENDAR
VERSION:2.0
PRODID:-//ChamberMaster//Event Calendar 2.0//EN
METHOD:PUBLISH
X-PUBLISHED-TTL:P3D
REFRESH-INTERVAL:P3D
CALSCALE:GREGORIAN
BEGIN:VEVENT
DTSTART:20100918T140000Z
DTEND:20100919T220000Z
X-MICROSOFT-CDO-ALLDAYEVENT:FALSE
SUMMARY:FESTIVAL
DESCRIPTION:The Creative Arts Guild's 47th Annual FESTIVAL of Arts and Crafts will be a free event. Enjoy our Outdoor Artist Market featuring regional artists\, Indoor FESTIVAL Exhibit\, Children's 3-D Exhibit\, Hands On Children's Activities\, Festival Foods\, Royal Reading Room and Local Authors Showcase (Story Time for Children and Adult Book and Poetry readings). Festival 2010 kicks off on September 17th with A Taste of Dalton Patron's Party\, an evening of sampling Dalton's culinary offerings and mingling with artists and patrons. Tickets $45 each.
X-ALT-DESC;FMTTYPE=text/html:<div>The Creative Arts Guild's 47th Annual FESTIVAL of Arts and Crafts will be a free event. Enjoy our Outdoor Artist Market featuring regional artists\, Indoor FESTIVAL Exhibit\, Children's 3-D Exhibit\, Hands On Children's Activities\, Festival Foods\, Royal Reading Room and Local Authors Showcase (Story Time for Children and Adult Book and Poetry readings). Festival 2010 kicks off on September 17th with A Taste of Dalton Patron's Party\, an evening of sampling Dalton's culinary offerings and mingling with artists and patrons. Tickets $45 each.</div>
LOCATION:Creative Arts Guild\, off West Waugh St. Dalton\, GA
UID:e.763.426
SEQUENCE:3
DTSTAMP:20260422T233907Z
URL:http://daltonchamber-dev.chambermaster.com/events/details/festival-09-18-2010-426
END:VEVENT

END:VCALENDAR
