BEGIN:VCALENDAR
VERSION:2.0
PRODID:-//ChamberMaster//Event Calendar 2.0//EN
METHOD:PUBLISH
X-PUBLISHED-TTL:P3D
REFRESH-INTERVAL:P3D
CALSCALE:GREGORIAN
BEGIN:VEVENT
DTSTART:20251002T123000Z
DTEND:20251002T133000Z
X-MICROSOFT-CDO-ALLDAYEVENT:FALSE
SUMMARY:Manufacturing Celebration
DESCRIPTION:Join us on October 2nd for our Manufacturing Celebration!\n\n\n\nThe Georgia Association of Manufacturers' own Lloyd Avram is joining us at our Manufacturing Celebration for an impactful morning of deep discussion on the trends and dynamics shaping the manufacturing industry. With Greater Dalton being a large manufacturing community\, this topic is incredibly relevant to all of our community members\, and we encourage you to join us for this discussion!\n\n\n\nLloyd Avram\, President and CEO of the Georgia Association of Manufacturers (GAM)\, will make a presentation on the state of manufacturing in Georgia and discuss workforce dynamics for the industry. \n\n \n\nGAM has published a first-ever report on manufacturing in the state and recently launched a revolutionary digital platform called "Manufacturing Georgia". The platform is designed to grow the industry's labor pool. As part of his talk\, Lloyd will share insights on both initiatives.\n\n\n\nReserve your seat today and join us on October 2nd at 8:30 AM inside the Dalton Convention Center for our update on the state of manufacturing!
X-ALT-DESC;FMTTYPE=text/html:<span style="font-size:18px\;"><span style="font-family:times new roman\;"><i>Join us on October 2nd for our Manufacturing Celebration!</i><br />\n<br />\nThe Georgia Association of Manufacturers&#39\; own Lloyd Avram is joining us at our Manufacturing Celebration for an impactful morning of deep discussion on the trends and dynamics shaping the manufacturing industry. With Greater Dalton being a large manufacturing community\, this topic is incredibly relevant to all of our community members\, and we encourage you to join us for this discussion!</span><br />\n<br />\n<span style="font-family:times new roman\;">Lloyd Avram\, President and CEO of the Georgia Association of Manufacturers (GAM)\, will make a presentation on the state of manufacturing in Georgia and discuss workforce dynamics for the industry.&nbsp\;<br />\n&nbsp\;<br />\nGAM has published a first-ever report on&nbsp\;manufacturing in the state and recently launched a revolutionary digital platform called&nbsp\;&ldquo\;Manufacturing Georgia&rdquo\;. The platform is designed to grow the industry&rsquo\;s labor pool. As part of his talk\, Lloyd will share insights on both initiatives.<br />\n<br />\nReserve your seat today and join us on October 2nd at 8:30 AM inside&nbsp\;the Dalton Convention Center for our update on the state of manufacturing!</span></span>
LOCATION:Dalton Convention Center 2211 Tony Ingle Pkwy.
UID:e.763.3294
SEQUENCE:3
DTSTAMP:20260419T134908Z
URL:http://daltonchamber-dev.chambermaster.com/events/details/manufacturing-celebration-3294
END:VEVENT

END:VCALENDAR
