BEGIN:VCALENDAR
VERSION:2.0
PRODID:-//ChamberMaster//Event Calendar 2.0//EN
METHOD:PUBLISH
X-PUBLISHED-TTL:P3D
REFRESH-INTERVAL:P3D
CALSCALE:GREGORIAN
BEGIN:VEVENT
DTSTART:20250603T160000Z
DTEND:20250603T180000Z
X-MICROSOFT-CDO-ALLDAYEVENT:FALSE
SUMMARY:Member Mixer - JBM
DESCRIPTION:Join us to celebrate JBM's 40th Anniversary with a Member Mixer!\n\n\n\nIf you're ready to grow your network and meet incredible people\, then you'll want to be at one of our Member Mixers this year. These high-energy\, can't-miss events are where local professionals from all walks of life gather in one location to connect and collaborate while unwinding after a busy workday.\n\n\n\nHere\, handshakes turn into partnerships and casual conversations turn into lifelong friendships. Mixers are the perfect mixture of business and community and are always held in a fun and welcoming environment! The best part is that Member Mixers are always FREE to attend\, so you can bring as many coworkers and buddies as your heart desires!\n\n\n\nMark your calendar for June 3rd and get ready to mix up your network at Member Mixer!
X-ALT-DESC;FMTTYPE=text/html:<span style="font-size: 18px\;"><span style="font-family: &quot\;times new roman&quot\;\;"><span style="caret-color: rgb(68\, 68\, 68)\;"><font color="#444444">Join us to celebrate JBM&#39\;s 40th Anniversary with a Member Mixer!<br />\n<br />\nIf you&#39\;re ready to grow your network and meet incredible people\, then you&#39\;ll want to be at one of our Member Mixers this year. These high-energy\,&nbsp\;</font></span><font color="#444444"><span style="caret-color: rgb(68\, 68\, 68)\;">can&#39\;t-miss events are where local professionals from all walks of life gather in one location to connect and collaborate while unwinding after a busy workday.<br />\n<br />\nHere\, handshakes turn into partnerships and casual conversations turn into lifelong friendships. Mixers are the perfect mixture of business and community and are always held in a fun and welcoming environment! The best part is that M</span></font></span></span><font face="times new roman" size="4">ember Mixers are always FREE to attend\, so you can bring as many coworkers and buddies as your heart desires!</font><br />\n<br />\n<span style="font-family: &quot\;times new roman&quot\;\; font-size: 18px\;">Mark your calendar for June 3rd and get ready to&nbsp\;</span><em style="font-family: &quot\;times new roman&quot\;\; font-size: 18px\;">mix up your network&nbsp\;</em><span style="font-family: &quot\;times new roman&quot\;\; font-size: 18px\;">at Member Mixer!</span>
LOCATION:JBM 510 McGhee Dr. Dalton\, GA 30721
UID:e.763.3340
SEQUENCE:3
DTSTAMP:20260422T022953Z
URL:http://daltonchamber-dev.chambermaster.com/events/details/member-mixer-jbm-3340
END:VEVENT

END:VCALENDAR
