BEGIN:VCALENDAR
VERSION:2.0
PRODID:-//ChamberMaster//Event Calendar 2.0//EN
METHOD:PUBLISH
X-PUBLISHED-TTL:P3D
REFRESH-INTERVAL:P3D
CALSCALE:GREGORIAN
BEGIN:VEVENT
DTSTART:20250506T130000Z
DTEND:20250506T140000Z
X-MICROSOFT-CDO-ALLDAYEVENT:FALSE
SUMMARY:Professional Development Series: LinkedIn 101
DESCRIPTION:Join us for the next installment of our Professional Development Series\, LinkedIn 101\, featuring Katherine Murphy\, MA!\n\n \n\nExplore how to create a LinkedIn profile that brings your personal career story to life\, whether you're just starting out\, seeking to advance\, or making a career change. Katherine Murphy will offer tips on tailoring each section\, starting with the key insight that a LinkedIn profile is unique and shouldn't be approached exactly like a resume. Katherine will also cover ways to add media to a profile\, methods for showcasing your career accomplishments and aspirations\, and specific examples of profile phrases and language that can help inspire your personal story.\n\n \n\nLearning objectives\n\n        Profile photo best practices\n\n        Creating a custom LinkedIn headline\n\n        Updating your industry\n\n        Introducing yourself in the summary section\n\n        Adding work experience\n\n        Adding skills\n\n        Getting endorsements\n\n        Requesting recommendations\n\n\n\n\n\nDon't miss out on this opportunity to learn how to improve your professional web presence!
X-ALT-DESC;FMTTYPE=text/html:<span style="font-size:16px\;"><span style="font-family:times new roman\;">Join us for the next installment of our Professional Development Series\, LinkedIn 101\, featuring Katherine Murphy\, MA!<br />\n&nbsp\;<br />\nExplore how to create a LinkedIn profile that brings your personal career story to life\, whether you&rsquo\;re just starting out\, seeking to advance\, or making a career change. Katherine Murphy will offer tips on tailoring each section\, starting with the key insight that a LinkedIn profile is unique and shouldn&rsquo\;t be approached exactly like a resume. Katherine will also cover ways to add media to a profile\, methods for showcasing your career accomplishments and aspirations\, and specific examples of profile phrases and language that can help inspire your personal story.<br />\n&nbsp\;<br />\n<strong>Learning objectives</strong><br />\n&middot\;&nbsp\;&nbsp\;&nbsp\;&nbsp\;&nbsp\;&nbsp\;&nbsp\;Profile photo best practices<br />\n&middot\;&nbsp\;&nbsp\;&nbsp\;&nbsp\;&nbsp\;&nbsp\;&nbsp\;Creating a custom LinkedIn headline<br />\n&middot\;&nbsp\;&nbsp\;&nbsp\;&nbsp\;&nbsp\;&nbsp\;&nbsp\;Updating your industry<br />\n&middot\;&nbsp\;&nbsp\;&nbsp\;&nbsp\;&nbsp\;&nbsp\;&nbsp\;Introducing yourself in the summary section<br />\n&middot\;&nbsp\;&nbsp\;&nbsp\;&nbsp\;&nbsp\;&nbsp\;&nbsp\;Adding work experience<br />\n&middot\;&nbsp\;&nbsp\;&nbsp\;&nbsp\;&nbsp\;&nbsp\;&nbsp\;Adding skills<br />\n&middot\;&nbsp\;&nbsp\;&nbsp\;&nbsp\;&nbsp\;&nbsp\;&nbsp\;Getting endorsements<br />\n&middot\;&nbsp\;&nbsp\;&nbsp\;&nbsp\;&nbsp\;&nbsp\;&nbsp\;Requesting recommendations<br />\n<br />\n<br />\nDon&#39\;t miss out on this opportunity to learn how to improve your professional web presence!</span></span>
LOCATION:Greater Dalton Chamber of Commerce Upstairs Boardroom 100 S. Hamilton St. Dalton\, GA 30720
UID:e.763.3327
SEQUENCE:3
DTSTAMP:20260420T202252Z
URL:http://daltonchamber-dev.chambermaster.com/events/details/professional-development-series-linkedin-101-3327
END:VEVENT

END:VCALENDAR
