BEGIN:VCALENDAR
VERSION:2.0
PRODID:-//ChamberMaster//Event Calendar 2.0//EN
METHOD:PUBLISH
X-PUBLISHED-TTL:P3D
REFRESH-INTERVAL:P3D
CALSCALE:GREGORIAN
BEGIN:VEVENT
DTSTART:20251028T190000Z
DTEND:20251028T203000Z
X-MICROSOFT-CDO-ALLDAYEVENT:FALSE
SUMMARY:Schmooza-Palooza Networking Event
DESCRIPTION:Join us to network with current Dalton State students interested in internships\, full-time opportunities\, and getting to know professionals in our community!
X-ALT-DESC;FMTTYPE=text/html:Join us to network with current Dalton State students interested in internships\, full-time opportunities\, and getting to know professionals in our community!&nbsp\;<br />\n&nbsp\;
LOCATION:Hosted at Dalton State College inside of the Wright School of Business Gignilliat Hall Atrium 656 College Dr. Dalton\, GA 30720
UID:e.763.3382
SEQUENCE:3
DTSTAMP:20260422T022703Z
URL:http://daltonchamber-dev.chambermaster.com/events/details/schmooza-palooza-networking-event-3382
END:VEVENT

END:VCALENDAR
