BEGIN:VCALENDAR
VERSION:2.0
PRODID:-//ChamberMaster//Event Calendar 2.0//EN
METHOD:PUBLISH
X-PUBLISHED-TTL:P3D
REFRESH-INTERVAL:P3D
CALSCALE:GREGORIAN
BEGIN:VEVENT
DTSTART:20240905T153000Z
DTEND:20240905T170000Z
X-MICROSOFT-CDO-ALLDAYEVENT:FALSE
SUMMARY:State of Education + Workforce Luncheon
DESCRIPTION:Join us for an exciting conversation on career\, technical education in our public K-12 schools\, an update from our private K-12 system\, and learn how our post-secondary institutions are preparing students to join the workforce upon graduation. Speakers include Kent Harrison from Christian Heritage Schools\, Dr. Steven Craft from Dalton Public Schools\, Dr. Mike Ewton from Whitfield County Schools\, Dr. Heidi Popham from Georgia Northwestern Technical College\, and Dr. John Fuchko III from Dalton State College with a panel moderated by Dr. Stephani Womack with Believe Greater Dalton and the Greater Dalton Chamber of Commerce.
X-ALT-DESC;FMTTYPE=text/html:Join us for an exciting conversation on career\, technical education in our public K-12 schools\, an update from our private K-12 system\, and learn how our post-secondary institutions are preparing students to join the workforce upon graduation. Speakers include Kent Harrison from Christian Heritage Schools\, <span style="background:white\;"><span style="color:#333333\;">Dr. Steven Craft from Dalton Public Schools\, Dr. Mike Ewton from Whitfield County Schools\, Dr. Heidi Popham from Georgia Northwestern Technical College\, and Dr. John Fuchko III from Dalton State College with a panel moderated by Dr. Stephani Womack with Believe Greater Dalton and the Greater Dalton Chamber of Commerce.</span></span>
LOCATION:Dalton Convention Center 2211 Dug Gap Battle Road
UID:e.763.3229
SEQUENCE:3
DTSTAMP:20260424T072114Z
URL:http://daltonchamber-dev.chambermaster.com/events/details/state-of-education-workforce-luncheon-3229
END:VEVENT

END:VCALENDAR
