BEGIN:VCALENDAR
VERSION:2.0
PRODID:-//ChamberMaster//Event Calendar 2.0//EN
METHOD:PUBLISH
X-PUBLISHED-TTL:P3D
REFRESH-INTERVAL:P3D
CALSCALE:GREGORIAN
BEGIN:VEVENT
DTSTART:20251113T133000Z
DTEND:20251113T143000Z
X-MICROSOFT-CDO-ALLDAYEVENT:FALSE
SUMMARY:State of Transportation & Infrastructure
DESCRIPTION:Join us for our first-ever conversation on transportation & infrastructure! \nKeynote Speaker:\n\nMicah Gravley\, State Transportation Board Member for Georgia's 14th Congressional District\, will share insights on regional priorities\, freight mobility\, safety\, and investments that impact both businesses and residents across our community.
X-ALT-DESC;FMTTYPE=text/html:<span style="font-size:18px\;"><strong><span style="font-family:times new roman\;">Join us for our first-ever conversation on transportation &amp\; infrastructure! </span></strong></span>\n<p style="margin: 0px\; padding: 0px\; color: rgb(0\, 0\, 0)\; font-family: Helvetica\, Arial\, sans-serif\; font-size: 14px\;"><span style="font-size: 15px\; font-weight: bold\; font-family: Arial\, Verdana\, Helvetica\, sans-serif\;">Keynote Speaker:</span></p>\n\n<p style="margin: 0px\; padding: 0px\; color: rgb(0\, 0\, 0)\; font-family: Helvetica\, Arial\, sans-serif\; font-size: 14px\;"><span style="font-size: 15px\; font-family: Arial\, Verdana\, Helvetica\, sans-serif\;">Micah Gravley\, State Transportation Board Member for Georgia&rsquo\;s 14th Congressional District\, will share insights on regional priorities\, freight mobility\, safety\, and investments that impact both businesses and residents across our community.</span></p>\n
LOCATION:Dalton Convention Center
UID:e.763.3281
SEQUENCE:3
DTSTAMP:20260420T010501Z
URL:http://daltonchamber-dev.chambermaster.com/events/details/state-of-transportation-infrastructure-3281
END:VEVENT

END:VCALENDAR
