BEGIN:VCALENDAR
VERSION:2.0
PRODID:-//ChamberMaster//Event Calendar 2.0//EN
METHOD:PUBLISH
X-PUBLISHED-TTL:P3D
REFRESH-INTERVAL:P3D
CALSCALE:GREGORIAN
BEGIN:VEVENT
DTSTART:20250307T133000Z
DTEND:20250307T143000Z
X-MICROSOFT-CDO-ALLDAYEVENT:FALSE
SUMMARY:Women's Networking Coffee
DESCRIPTION:Celebrate women in business with us!\n\n\n\nDid you know that women make up the majority of the Greater Dalton Chamber team? Seven out of ten of us are women\, holding titles from Executive Director to Project Manager. Supporting and celebrating women in business isn't just something we do\; it's who we are!\n\n \n\nThat's why we're excited to invite you to celebrate International Women's Day 2025 at our Quarterly Women's Networking coffee on Friday\, March 7th. This event is a chance to connect with like-minded women\, share stories\, and be inspired by each other's contributions to the Greater Dalton community.\n\n \n\nWhether you're a seasoned business leader\, an entrepreneur\, or a college student trying to begin your professional career\, there is something at this event for everyone! Bring your best gal pals\, coworkers\, or even a mentor who has helped shape your journey. You'll have the opportunity to engage in meaningful conversations and expand your network of women professionals in a warm and supportive environment.\n\n \n\nJoin us on March 7th at 8:30 AM inside of Casa Del Cafe. Black coffee is on us! (Specialty drinks available for purchase). This event is proudly presented by Mohawk Industries.\n\n \n\nLet's raise a mug to the power of women in business!
X-ALT-DESC;FMTTYPE=text/html:<span style="background-image: none\; background-position: 0% 0%\; background-size: auto\; background-repeat: repeat\; background-attachment: scroll\; background-origin: padding-box\; background-clip: border-box\;"><strong style="font-family: &quot\;times new roman&quot\;\; font-size: 20px\;">Celebrate women in business with us!</strong><br />\n<br />\n<font face="times new roman"><span style="font-size: 20px\;">Did you know that women make up the majority of the Greater Dalton Chamber team? Seven out of ten of us are women\, holding titles from Executive Director to Project Manager. Supporting and celebrating women in business isn&rsquo\;t just something we do\; it&rsquo\;s who we are!</span></font></span><br />\n<font face="times new roman"><span style="font-size: 20px\;">&nbsp\;</span></font><br />\n<span style="font-family: &quot\;times new roman&quot\;\; font-size: 20px\; background-image: none\; background-position: 0% 0%\; background-size: auto\; background-repeat: repeat\; background-attachment: scroll\; background-origin: padding-box\; background-clip: border-box\;">That&rsquo\;s why we&rsquo\;re excited to invite you to celebrate International Women&rsquo\;s Day 2025 at our Quarterly Women&rsquo\;s Networking coffee on Friday\, March 7th. This event is a chance to connect with like-minded women\, share stories\, and be inspired by each other&rsquo\;s contributions to the Greater Dalton community.</span><br />\n<font face="times new roman"><span style="font-size: 20px\;">&nbsp\;</span></font><br />\n<span style="font-family: &quot\;times new roman&quot\;\; font-size: 20px\; background-image: none\; background-position: 0% 0%\; background-size: auto\; background-repeat: repeat\; background-attachment: scroll\; background-origin: padding-box\; background-clip: border-box\;">Whether you&rsquo\;re a seasoned business leader\, an entrepreneur\, or a college student trying to begin your professional career\, there is something at this event for everyone! Bring your best gal pals\, coworkers\, or even a mentor who has helped shape your journey. You&rsquo\;ll have the opportunity to engage in meaningful conversations and expand your network of women professionals in a warm and supportive environment.</span><br />\n<font face="times new roman"><span style="font-size: 20px\;">&nbsp\;</span></font><br />\n<span style="font-family: &quot\;times new roman&quot\;\; font-size: 20px\; background-image: none\; background-position: 0% 0%\; background-size: auto\; background-repeat: repeat\; background-attachment: scroll\; background-origin: padding-box\; background-clip: border-box\;">Join us on March 7th</span><span style="font-family: &quot\;times new roman&quot\;\; background-image: none\; background-position: 0% 0%\; background-size: auto\; background-repeat: repeat\; background-attachment: scroll\; background-origin: padding-box\; background-clip: border-box\;"><span style="font-size: 20px\;">&nbsp\;at 8:30 AM inside of Casa Del Cafe. Black coffee is on us! (Specialty drinks available for purchase). This event is proudly presented by Mohawk Industries.</span></span><br />\n<font face="times new roman"><span style="font-size: 20px\;">&nbsp\;</span></font><br />\n<span style="font-family: &quot\;times new roman&quot\;\; font-size: 20px\; background-image: none\; background-position: 0% 0%\; background-size: auto\; background-repeat: repeat\; background-attachment: scroll\; background-origin: padding-box\; background-clip: border-box\;">Let&rsquo\;s raise a mug to the power of women in business!</span>
LOCATION:Casa Del Cafe 219 E. Morris St.
UID:e.763.3317
SEQUENCE:3
DTSTAMP:20260422T013049Z
URL:http://daltonchamber-dev.chambermaster.com/events/details/women-s-networking-coffee-3317
END:VEVENT

END:VCALENDAR
